BEGIN:VCALENDAR
VERSION:2.0
PRODID:-//Longfellow Community Council - ECPv6.10.2//NONSGML v1.0//EN
CALSCALE:GREGORIAN
METHOD:PUBLISH
X-WR-CALNAME:Longfellow Community Council
X-ORIGINAL-URL:https://longfellow.org
X-WR-CALDESC:Events for Longfellow Community Council
REFRESH-INTERVAL;VALUE=DURATION:PT1H
X-Robots-Tag:noindex
X-PUBLISHED-TTL:PT1H
BEGIN:VTIMEZONE
TZID:America/Chicago
BEGIN:DAYLIGHT
TZOFFSETFROM:-0600
TZOFFSETTO:-0500
TZNAME:CDT
DTSTART:20230312T080000
END:DAYLIGHT
BEGIN:STANDARD
TZOFFSETFROM:-0500
TZOFFSETTO:-0600
TZNAME:CST
DTSTART:20231105T070000
END:STANDARD
END:VTIMEZONE
BEGIN:VEVENT
DTSTART;TZID=America/Chicago:20230718T100000
DTEND;TZID=America/Chicago:20230718T110000
DTSTAMP:20260421T062218
CREATED:20230712T233021Z
LAST-MODIFIED:20230712T233021Z
UID:1752-1689674400-1689678000@longfellow.org
SUMMARY:City Council to Review 3rd Precinct Engagement Outcomes
DESCRIPTION:We finally have an update on what is happening at the City! The report put together by DeYoung Consulting regarding the outcome of the community conversation sessions and the online survey from April will be presented to the Council’s Community of the Whole (aka\, the full Council) in a couple weeks: \nTuesday\, July 18th at 10:00am\nCity Hall chambers\, Room 317 \nGoal: To pack the room! Please join us and bring your neighbors! \nThis is a “receive and file” presentation so there will not be testimony but we will hopefully learn more about how the City is responding to community feedback. \nYou can also watch the meeting on a livestream at City Council TV  or the City’s YouTube Channel.
URL:https://longfellow.org/event/city-council-to-review-3rd-precinct-engagement-outcomes/
LOCATION:Minneapolis City Hall\, 350 S 5th St\, Minneapolis\, MN\, 55415\, United States
CATEGORIES:Community Events,LCC Events
ATTACH;FMTTYPE=image/png:https://longfellow.org/wp-content/uploads/2023/07/3rd-precinct-16-×-9-in-3.png
ORGANIZER;CN="Longfellow Community Council":MAILTO:info@longfellow.org
END:VEVENT
BEGIN:VEVENT
DTSTART;TZID=America/Chicago:20230718T180000
DTEND;TZID=America/Chicago:20230718T200000
DTSTAMP:20260421T062218
CREATED:20230519T184229Z
LAST-MODIFIED:20230519T184229Z
UID:1649-1689703200-1689710400@longfellow.org
SUMMARY:LCC Board of Directors Meeting
DESCRIPTION:Our Board of Directors discusses the objectives and programming of Longfellow Community Council and votes on grants and projects. Look at our agenda for a more complete picture of what we’re doing each month.\n\nOur Board meets the third Tuesday of the month from 6pm to 8pm. All meetings are open to the public and hybrid – both in person at our LCC Office\, 3101 Minnehaha Ave\, and on Zoom: https://us02web.zoom.us/j/86140955432
URL:https://longfellow.org/event/lcc-board-of-directors-meeting-6/
LOCATION:LCC Office\, 3101 Minnehaha Ave\, Minneapolis\, MN\, 55406\, United States
CATEGORIES:Monthly Board Meeting
ATTACH;FMTTYPE=image/jpeg:https://longfellow.org/wp-content/uploads/2021/12/1-3.jpg
ORGANIZER;CN="Longfellow Community Council":MAILTO:info@longfellow.org
END:VEVENT
END:VCALENDAR