BEGIN:VCALENDAR
VERSION:2.0
PRODID:-//Longfellow Community Council - ECPv6.10.2//NONSGML v1.0//EN
CALSCALE:GREGORIAN
METHOD:PUBLISH
X-WR-CALNAME:Longfellow Community Council
X-ORIGINAL-URL:https://longfellow.org
X-WR-CALDESC:Events for Longfellow Community Council
REFRESH-INTERVAL;VALUE=DURATION:PT1H
X-Robots-Tag:noindex
X-PUBLISHED-TTL:PT1H
BEGIN:VTIMEZONE
TZID:America/Chicago
BEGIN:DAYLIGHT
TZOFFSETFROM:-0600
TZOFFSETTO:-0500
TZNAME:CDT
DTSTART:20260308T080000
END:DAYLIGHT
BEGIN:STANDARD
TZOFFSETFROM:-0500
TZOFFSETTO:-0600
TZNAME:CST
DTSTART:20261101T070000
END:STANDARD
END:VTIMEZONE
BEGIN:VEVENT
DTSTART;TZID=America/Chicago:20260502T100000
DTEND;TZID=America/Chicago:20260502T130000
DTSTAMP:20260425T140017
CREATED:20260423T212018Z
LAST-MODIFIED:20260423T212023Z
UID:3335-1777716000-1777726800@longfellow.org
SUMMARY:Neighborhood Day
DESCRIPTION:Join Longfellow Community Council for our annual neighborhood day! \nThis year\, we’re taking it to the streets at El Nuevo Campo\, across from the Coliseum (2709 E Lake St). We’re celebrating spring with a number of activities and resources. Join us for this free event\, and don’t forget to head to the first day of the Midtown Farmer’s Market! \nLineup: \n\n10 am: Community cleanup\n11 am: Join the Singing Resistance in song\n\n10 am- 1pm: \n\nDrop off your Hazardous Waste recycling (click here to see what can be recycled)\nGet one free plant per household\nLearn about LCC’s programs and services\nMake a clay bowl\nPlant sale for the Greater Longfellow Neighbor Relief Fund\nWe Feed Us\nand more!
URL:https://longfellow.org/event/neighborhood-day/
LOCATION:2709 E Lake Street\, El Nuevo Campo: 2709 E Lake Street\, Minneapolis\, MN\, 55406\, United States
END:VEVENT
BEGIN:VEVENT
DTSTART;VALUE=DATE:20260612
DTEND;VALUE=DATE:20260615
DTSTAMP:20260425T140017
CREATED:20260326T194158Z
LAST-MODIFIED:20260326T194316Z
UID:3318-1781222400-1781481599@longfellow.org
SUMMARY:Neighborhood Garage Sale
DESCRIPTION:June 12-14\, 2026\nRegister your Garage Sale\ndeadline to register: May 19\nEvery summer\, the Longfellow Community Council organizes a garage sale with over 100 stops spanning Cooper\, Howe\, Longfellow and Hiawatha neighborhoods. Join in on the fun from Friday\, June 12 – Sunday\, June 14 (times vary). \nScroll down to see all the maps and information for the 2025 Neighborhood Garage Sale. Be sure to register if you want to participate in 2026. \nLearn more by visiting the Garage Sale page: https://longfellow.org/longfellow-neighborhood-garage-sale/
URL:https://longfellow.org/event/neighborhood-garage-sale-4/
LOCATION:MN
CATEGORIES:LCC Events
ATTACH;FMTTYPE=image/png:https://longfellow.org/wp-content/uploads/2026/03/Copy-of-Garage-sale-banner.png
END:VEVENT
END:VCALENDAR